BEGIN:VCALENDAR
VERSION:2.0
PRODID:SchoolNow
CALSCALE:GREGORIAN
BEGIN:VEVENT
UID:eaba0f6a-c1af-11f0-b7f2-0e11e61b1f39
DTSTAMP:20251216T214612Z
SUMMARY:P & R Grade 4\,5 & 6 Dance
URL;VALUE=URI:https://www.northhamptonschool.nh.gov/calendar/8795999/p-r-gr
 ade-4-5-6-dance
DTSTART:20251205T233000Z
DTEND:20251206T013000Z
END:VEVENT
END:VCALENDAR
