BEGIN:VCALENDAR
VERSION:2.0
PRODID:SchoolNow
CALSCALE:GREGORIAN
BEGIN:VEVENT
UID:c6b01a42-c4ac-11f0-813f-0a58a9feac02
DTSTAMP:20251216T214612Z
SUMMARY:7 & 8th Grade Dance
URL;VALUE=URI:https://www.northhamptonschool.nh.gov/calendar/8801956/7-8th-
 grade-dance
DTSTART:20260130T230000Z
DTEND:20260131T010000Z
END:VEVENT
END:VCALENDAR
