BEGIN:VCALENDAR
VERSION:2.0
PRODID:SchoolNow
CALSCALE:GREGORIAN
BEGIN:VEVENT
UID:c6b01d9e-c4ac-11f0-aa89-0a58a9feac02
DTSTAMP:20251216T214612Z
SUMMARY:Kids Night Out
URL;VALUE=URI:https://www.northhamptonschool.nh.gov/calendar/8801957/kids-n
 ight-out
DTSTART:20251211T230000Z
DTEND:20251212T010000Z
END:VEVENT
END:VCALENDAR
