BEGIN:VCALENDAR
VERSION:2.0
PRODID:SchoolNow
CALSCALE:GREGORIAN
BEGIN:VEVENT
UID:234eaa8c-d139-11f0-b6cc-0a58a9feac02
DTSTAMP:20251216T214612Z
SUMMARY:NHS School Board Meeting
URL;VALUE=URI:https://www.northhamptonschool.nh.gov/calendar/8817421/nhs-sc
 hool-board-meeting
DTSTART:20251204T233000Z
DTEND:20251205T010000Z
END:VEVENT
END:VCALENDAR
