BEGIN:VCALENDAR
VERSION:2.0
PRODID:SchoolNow
CALSCALE:GREGORIAN
BEGIN:VEVENT
UID:026a540a-d469-11f0-af4b-0e8c7ad33dcf
DTSTAMP:20251216T214612Z
SUMMARY:8th Grade Trip Meeting
URL;VALUE=URI:https://www.northhamptonschool.nh.gov/calendar/8819945/8th-gr
 ade-trip-meeting
DTSTART:20251209T230000Z
DTEND:20251210T000000Z
END:VEVENT
END:VCALENDAR
