BEGIN:VCALENDAR
VERSION:2.0
PRODID:SchoolNow
CALSCALE:GREGORIAN
BEGIN:VEVENT
UID:02a88702-d469-11f0-a28b-0e8c7ad33dcf
DTSTAMP:20251216T214612Z
SUMMARY:Sing A Long students/staff
URL;VALUE=URI:https://www.northhamptonschool.nh.gov/calendar/8819946/sing-a
 -long-students-staff
DTSTART:20251223T140000Z
DTEND:20251223T143000Z
END:VEVENT
END:VCALENDAR
