BEGIN:VCALENDAR
VERSION:2.0
PRODID:SchoolNow
CALSCALE:GREGORIAN
BEGIN:VEVENT
UID:e328e5f6-d699-11f0-ad4e-0202792bedc1
DTSTAMP:20251216T214612Z
SUMMARY:Grade 5 Field Trip
URL;VALUE=URI:https://www.northhamptonschool.nh.gov/calendar/8821726/grade-
 5-field-trip
DTSTART:20260107T143000Z
DTEND:20260107T183000Z
END:VEVENT
END:VCALENDAR
