BEGIN:VCALENDAR
VERSION:2.0
PRODID:SchoolNow
CALSCALE:GREGORIAN
BEGIN:VEVENT
UID:e328f852-d699-11f0-b9b1-0202792bedc1
DTSTAMP:20251216T214612Z
SUMMARY:TLC
URL;VALUE=URI:https://www.northhamptonschool.nh.gov/calendar/8821727/tlc
DTSTART:20251211T200000Z
DTEND:20251211T210000Z
END:VEVENT
END:VCALENDAR
