BEGIN:VCALENDAR
VERSION:2.0
PRODID:SchoolNow
CALSCALE:GREGORIAN
BEGIN:VEVENT
UID:e355fd7a-d699-11f0-8ccc-0202792bedc1
DTSTAMP:20251216T214612Z
SUMMARY:Student Council SST Trip
URL;VALUE=URI:https://www.northhamptonschool.nh.gov/calendar/8821728/studen
 t-council-sst-trip
DTSTART:20260311T130000Z
DTEND:20260311T153000Z
END:VEVENT
END:VCALENDAR
