BEGIN:VCALENDAR
VERSION:2.0
PRODID:SchoolNow
CALSCALE:GREGORIAN
BEGIN:VEVENT
UID:f10c2876-d6cc-11f0-8d7a-0affcff44df9
DTSTAMP:20251216T214612Z
SUMMARY:Grade 8 Trip
URL;VALUE=URI:https://www.northhamptonschool.nh.gov/calendar/8822218/grade-
 8-trip
DTSTART:20260518T090000Z
DTEND:20260518T213000Z
END:VEVENT
END:VCALENDAR
