BEGIN:VCALENDAR
VERSION:2.0
PRODID:SchoolNow
CALSCALE:GREGORIAN
BEGIN:VEVENT
UID:f10c2d9e-d6cc-11f0-97dc-0affcff44df9
DTSTAMP:20251216T214612Z
SUMMARY:Grade 8 Trip
URL;VALUE=URI:https://www.northhamptonschool.nh.gov/calendar/8822220/grade-
 8-trip
DTSTART:20260520T090000Z
DTEND:20260520T213000Z
END:VEVENT
END:VCALENDAR
